BEGIN:VCALENDAR
VERSION:2.0
PRODID:-//Howard County Bar Association - ECPv6.15.20//NONSGML v1.0//EN
CALSCALE:GREGORIAN
METHOD:PUBLISH
X-WR-CALNAME:Howard County Bar Association
X-ORIGINAL-URL:https://howardcountybar.org
X-WR-CALDESC:Events for Howard County Bar Association
REFRESH-INTERVAL;VALUE=DURATION:PT1H
X-Robots-Tag:noindex
X-PUBLISHED-TTL:PT1H
BEGIN:VTIMEZONE
TZID:America/New_York
BEGIN:DAYLIGHT
TZOFFSETFROM:-0500
TZOFFSETTO:-0400
TZNAME:EDT
DTSTART:20250309T070000
END:DAYLIGHT
BEGIN:STANDARD
TZOFFSETFROM:-0400
TZOFFSETTO:-0500
TZNAME:EST
DTSTART:20251102T060000
END:STANDARD
BEGIN:DAYLIGHT
TZOFFSETFROM:-0500
TZOFFSETTO:-0400
TZNAME:EDT
DTSTART:20260308T070000
END:DAYLIGHT
BEGIN:STANDARD
TZOFFSETFROM:-0400
TZOFFSETTO:-0500
TZNAME:EST
DTSTART:20261101T060000
END:STANDARD
BEGIN:DAYLIGHT
TZOFFSETFROM:-0500
TZOFFSETTO:-0400
TZNAME:EDT
DTSTART:20270314T070000
END:DAYLIGHT
BEGIN:STANDARD
TZOFFSETFROM:-0400
TZOFFSETTO:-0500
TZNAME:EST
DTSTART:20271107T060000
END:STANDARD
END:VTIMEZONE
BEGIN:VEVENT
DTSTART;TZID=America/New_York:20260513T160000
DTEND;TZID=America/New_York:20260513T170000
DTSTAMP:20260424T090209
CREATED:20260407T162958Z
LAST-MODIFIED:20260407T164434Z
UID:18064-1778688000-1778691600@howardcountybar.org
SUMMARY:43rd Adult Recovery Court Commencement
DESCRIPTION:You are cordially invited to: \nThe 43rd Adult Recovery Court Commencement Celebration at Howard County District Court. \nWednesday\, May 13\, 2026\, at 4:00 p.m. \nCourtroom 5\n3451 Courthouse Drive\, Ellicott City\, MD 21043 \nThere is no cost for this event.\nPlease let us know if you plan to attend: howardcountybarassociation@gmail.com
URL:https://howardcountybar.org/event/43rd-adult-recovery-court-commencement/
LOCATION:District Court for Howard County\, Courtroom 5\, 3451 Courthouse Drive\, Ellicott City\, Maryland\, 21043
END:VEVENT
BEGIN:VEVENT
DTSTART;TZID=America/New_York:20260514T120000
DTEND;TZID=America/New_York:20260514T133000
DTSTAMP:20260424T090209
CREATED:20260410T132828Z
LAST-MODIFIED:20260417T191320Z
UID:18072-1778760000-1778765400@howardcountybar.org
SUMMARY:HCBA Annual Meeting 2026
DESCRIPTION:Please join us for the HCBA Annual Meeting on Thursday\, May 14\, 2026\, at Cured 18th & 21st\, located at 10980 Grantchester Way #110 in Columbia\, from 12:00 PM to 1:30 PM. \nAs required by the Bylaws\, at this meeting the Members will vote both to approve the proposed 2026-2027 Budget which has been approved by the Board of Directors and to elect the Officers and Members at Large. \nThe cost is $40.00. \n\n\n                \n                        \n                             \n                        \n                        Full Name(Required)Email(Required)\n                            \n                        The selections are:(Required)\n			\n					\n					CLASSIC BURGER\n			\n			\n					\n					CAESAR WRAP - romaine\, parmesan\, croutons\, house Caesar dressing\, blackened salmon\n			\n			\n					\n					CURED CHICKEN SANDWICH - crispy chicken breast\, Carolina sauce\, coleslaw\, potato roll\n			\n			\n					\n					CAESAR SALAD - romaine\, parmesan\, croutons\, house made Caesar dressing\, grilled chicken\n			\n			\n					\n					 AVOCADO SALAD - mixed greens\, radishes\, cherry tomatoes\, mango salsa\, cucumbers\, creamy mango dressing w/ grilled chicken\n			Choice of side salad or french fries(Required)\n			\n					\n					SIDE SALAD\n			\n			\n					\n					FRENCH FRIES\n			Member Price\n					\n					\n						Price:\n						\n					\n					\n				Login here to register for this event.Total\n							\n						Credit Card
URL:https://howardcountybar.org/event/hcba-annual-meeting-2026/
LOCATION:Cured 18th & 21st\, 10980 Grantchester Way #110\, Columbia\, MD\, 21044
END:VEVENT
BEGIN:VEVENT
DTSTART;VALUE=DATE:20260528
DTEND;VALUE=DATE:20260529
DTSTAMP:20260424T090209
CREATED:20260123T201318Z
LAST-MODIFIED:20260310T005315Z
UID:17826-1779926400-1780012799@howardcountybar.org
SUMMARY:Barristers' Invitational Golf Tournament
DESCRIPTION:The Barristers’ Invitational\n                             \n                        \n                        X/TwitterThis field is for validation purposes and should be left unchanged.Sponsorship LevelParBirdie SponsorshipEagle SponsorshipAlbatross SponsorshipGolfer Registration (1-3 golfers)Amateur  Clinic LessonSpectator DonationNumber of GolfersOne GolferTwo GolfersThree GolfersTeam Captain - Name(Required)\n                            \n                            \n                                                    First\n                                                    \n                                                \n                            \n                            \n                                                            Last\n                                                            \n                                                        \n                            \n                        Team Captain - Email(Required)\n                                \n                                    Enter Email\n                                    \n                                \n                                \n                                    Confirm Email\n                                    \n                                \n                                \n                            Team Captain - Address    \n                    \n                         \n                                        Street Address\n                                        \n                                   \n                                        Address Line 2\n                                        \n                                    \n                                    City\n                                    \n                                 \n                                        State\n                                        AlabamaAlaskaAmerican SamoaArizonaArkansasCaliforniaColoradoConnecticutDelawareDistrict of ColumbiaFloridaGeorgiaGuamHawaiiIdahoIllinoisIndianaIowaKansasKentuckyLouisianaMaineMarylandMassachusettsMichiganMinnesotaMississippiMissouriMontanaNebraskaNevadaNew HampshireNew JerseyNew MexicoNew YorkNorth CarolinaNorth DakotaNorthern Mariana IslandsOhioOklahomaOregonPennsylvaniaPuerto RicoRhode IslandSouth CarolinaSouth DakotaTennesseeTexasUtahU.S. Virgin IslandsVermontVirginiaWashingtonWest VirginiaWisconsinWyomingArmed Forces AmericasArmed Forces EuropeArmed Forces Pacific\n                                      \n                                    ZIP Code\n                                    \n                                \n                    \n                Name(Required)\n                            \n                            \n                                                    First\n                                                    \n                                                \n                            \n                            \n                                                            Last\n                                                            \n                                                        \n                            \n                        Email(Required)\n                                \n                                    Enter Email\n                                    \n                                \n                                \n                                    Confirm Email\n                                    \n                                \n                                \n                            Address    \n                    \n                         \n                                        Street Address\n                                        \n                                   \n                                        Address Line 2\n                                        \n                                    \n                                    City\n                                    \n                                 \n                                        State\n                                        AlabamaAlaskaAmerican SamoaArizonaArkansasCaliforniaColoradoConnecticutDelawareDistrict of ColumbiaFloridaGeorgiaGuamHawaiiIdahoIllinoisIndianaIowaKansasKentuckyLouisianaMaineMarylandMassachusettsMichiganMinnesotaMississippiMissouriMontanaNebraskaNevadaNew HampshireNew JerseyNew MexicoNew YorkNorth CarolinaNorth DakotaNorthern Mariana IslandsOhioOklahomaOregonPennsylvaniaPuerto RicoRhode IslandSouth CarolinaSouth DakotaTennesseeTexasUtahU.S. Virgin IslandsVermontVirginiaWashingtonWest VirginiaWisconsinWyomingArmed Forces AmericasArmed Forces EuropeArmed Forces Pacific\n                                      \n                                    ZIP Code\n                                    \n                                \n                    \n                Donation Amount $__.__\n					\n				Additional Golfer InformationGolfer 2 - Name\n                            \n                            \n                                                    First\n                                                    \n                                                \n                            \n                            \n                                                            Last\n                                                            \n                                                        \n                            \n                        Golfer 2 - Email\n                                \n                                    Enter Email\n                                    \n                                \n                                \n                                    Confirm Email\n                                    \n                                \n                                \n                            Golfer 3 - Name\n                            \n                            \n                                                    First\n                                                    \n                                                \n                            \n                            \n                                                            Last\n                                                            \n                                                        \n                            \n                        Golfer 3 - Email\n                                \n                                    Enter Email\n                                    \n                                \n                                \n                                    Confirm Email\n                                    \n                                \n                                \n                            Golfer 4 - Name\n                            \n                            \n                                                    First\n                                                    \n                                                \n                            \n                            \n                                                            Last\n                                                            \n                                                        \n                            \n                        Golfer 4 - Email\n                                \n                                    Enter Email\n                                    \n                                \n                                \n                                    Confirm Email\n                                    \n                                \n                                \n                            Other NecessitiesPutting Contest Quantity\n					\n					\n						Price:\n						$20.00\n					\n					\n					 Quantity \n				Scotty Cameron Putter Raffle (20 ticket bundle) Quantity\n					\n					\n						Price:\n						$30.00\n					\n					\n					 Quantity \n				Scotty Cameron Putter Raffle (10 Ticket Bundle) Quantity\n					\n					\n						Price:\n						$20.00\n					\n					\n					 Quantity \n				50/50 Raffle Tickets (Set of 5) Quantity$10.00 for five tickets. $15.00 if paid day of Event – Cash Only\n					\n					\n						Price:\n						$10.00\n					\n					\n					 Quantity \n				50/50 Raffle Tickets (Set of 10) Quantity$15.00 for 10 tickets. $20.00 if paid day of Event – Cash Only\n					\n					\n						Price:\n						$15.00\n					\n					\n					 Quantity \n				Mulligan & PowerballOne (1) Mulligan and One (1) Powerball Per Player/Per Round\n$20.00 Pre-Pay ($25.00 if paid day of Event – Cash Only) \n\nNo SelectionMulligan / Powerball $20.00Mulligan & Powerball | 2nd GolferOne (1) Mulligan and One (1) Powerball Per Player/Per Round\n$20.00 Pre-Pay ($25.00 if paid day of Event – Cash Only) \n\nNo SelectionMulligan / Powerball $20.00Mulligan & Powerball | 3rd GolferOne (1) Mulligan and One (1) Powerball Per Player/Per Round\n$20.00 Pre-Pay ($25.00 if paid day of Event – Cash Only) \n\nNo SelectionMulligan / Powerball $20.00Mulligan & Powerball | 4th GolferOne (1) Mulligan and One (1) Powerball Per Player/Per Round\n$20.00 Pre-Pay ($25.00 if paid day of Event – Cash Only) \n\nNo SelectionMulligan / Powerball $20.00WebsitePlease enter your organization's website.\n                    \n                Logo UploadPlease upload your organization's logo for use on promotional materials.Max. file size: 64 MB. PaymentTotal\n							\n						Credit Card(Required)
URL:https://howardcountybar.org/event/barristers-invitational-golf-tournament/
LOCATION:Waverly Woods Golf Club\, 2100 Warwick Way\, Marriottsville\, MD\, 21104
END:VEVENT
BEGIN:VEVENT
DTSTART;TZID=America/New_York:20260625T083000
DTEND;TZID=America/New_York:20260625T133000
DTSTAMP:20260424T090209
CREATED:20260227T210356Z
LAST-MODIFIED:20260227T210401Z
UID:18003-1782376200-1782394200@howardcountybar.org
SUMMARY:The Law Days of Summer
DESCRIPTION:More information to follow!
URL:https://howardcountybar.org/event/the-law-days-of-summer-625/
LOCATION:Howard County Circuit Courthouse\, 9250 Judicial Way\, Ellicott City\, Maryland\, 21043
END:VEVENT
BEGIN:VEVENT
DTSTART;TZID=America/New_York:20260715T083000
DTEND;TZID=America/New_York:20260715T133000
DTSTAMP:20260424T090209
CREATED:20260227T210445Z
LAST-MODIFIED:20260227T210449Z
UID:18006-1784104200-1784122200@howardcountybar.org
SUMMARY:The Law Days of Summer
DESCRIPTION:More information to follow!
URL:https://howardcountybar.org/event/the-law-days-of-summer-715/
LOCATION:Howard County Circuit Courthouse\, 9250 Judicial Way\, Ellicott City\, Maryland\, 21043
END:VEVENT
BEGIN:VEVENT
DTSTART;TZID=America/New_York:20260728T083000
DTEND;TZID=America/New_York:20260728T133000
DTSTAMP:20260424T090209
CREATED:20260227T210646Z
LAST-MODIFIED:20260227T210651Z
UID:18009-1785227400-1785245400@howardcountybar.org
SUMMARY:The Law Days of Summer
DESCRIPTION:More information to follow!
URL:https://howardcountybar.org/event/the-law-days-of-summer-728/
LOCATION:Howard County Circuit Courthouse\, 9250 Judicial Way\, Ellicott City\, Maryland\, 21043
END:VEVENT
END:VCALENDAR